BEGIN:VCALENDAR
VERSION:2.0
PRODID:-//Athlos Academy of St. Cloud - ECPv6.15.20//NONSGML v1.0//EN
CALSCALE:GREGORIAN
METHOD:PUBLISH
X-WR-CALNAME:Athlos Academy of St. Cloud
X-ORIGINAL-URL:https://athlosstcloud.org
X-WR-CALDESC:Events for Athlos Academy of St. Cloud
REFRESH-INTERVAL;VALUE=DURATION:PT1H
X-Robots-Tag:noindex
X-PUBLISHED-TTL:PT1H
BEGIN:VTIMEZONE
TZID:America/Denver
BEGIN:DAYLIGHT
TZOFFSETFROM:-0700
TZOFFSETTO:-0600
TZNAME:MDT
DTSTART:20170312T090000
END:DAYLIGHT
BEGIN:STANDARD
TZOFFSETFROM:-0600
TZOFFSETTO:-0700
TZNAME:MST
DTSTART:20171105T080000
END:STANDARD
BEGIN:DAYLIGHT
TZOFFSETFROM:-0700
TZOFFSETTO:-0600
TZNAME:MDT
DTSTART:20180311T090000
END:DAYLIGHT
BEGIN:STANDARD
TZOFFSETFROM:-0600
TZOFFSETTO:-0700
TZNAME:MST
DTSTART:20181104T080000
END:STANDARD
BEGIN:DAYLIGHT
TZOFFSETFROM:-0700
TZOFFSETTO:-0600
TZNAME:MDT
DTSTART:20190310T090000
END:DAYLIGHT
BEGIN:STANDARD
TZOFFSETFROM:-0600
TZOFFSETTO:-0700
TZNAME:MST
DTSTART:20191103T080000
END:STANDARD
BEGIN:DAYLIGHT
TZOFFSETFROM:-0700
TZOFFSETTO:-0600
TZNAME:MDT
DTSTART:20200308T090000
END:DAYLIGHT
BEGIN:STANDARD
TZOFFSETFROM:-0600
TZOFFSETTO:-0700
TZNAME:MST
DTSTART:20201101T080000
END:STANDARD
END:VTIMEZONE
BEGIN:VTIMEZONE
TZID:UTC
BEGIN:STANDARD
TZOFFSETFROM:+0000
TZOFFSETTO:+0000
TZNAME:UTC
DTSTART:20180101T000000
END:STANDARD
END:VTIMEZONE
BEGIN:VEVENT
DTSTART;VALUE=DATE:20181224
DTEND;VALUE=DATE:20190102
DTSTAMP:20260425T065840
CREATED:20180913T044428Z
LAST-MODIFIED:20190201T214045Z
UID:1236-1545609600-1546387199@athlosstcloud.org
SUMMARY:No School - Winter Break
DESCRIPTION:
URL:https://athlosstcloud.org/calendar/winter-break-2018/
CATEGORIES:Official School Calendar
ATTACH;FMTTYPE=image/png:https://athlosstcloud.org/wp-content/uploads/2018/09/Winter_Break.png
END:VEVENT
BEGIN:VEVENT
DTSTART;VALUE=DATE:20190101
DTEND;VALUE=DATE:20190102
DTSTAMP:20260425T065840
CREATED:20180913T104031Z
LAST-MODIFIED:20190201T214031Z
UID:1264-1546300800-1546387199@athlosstcloud.org
SUMMARY:New Year's Day
DESCRIPTION:
URL:https://athlosstcloud.org/calendar/new-years-day-2019/
CATEGORIES:Official School Calendar
ATTACH;FMTTYPE=image/png:https://athlosstcloud.org/wp-content/uploads/2018/09/Happy_New_Year.png
END:VEVENT
BEGIN:VEVENT
DTSTART;VALUE=DATE:20190101
DTEND;VALUE=DATE:20190102
DTSTAMP:20260425T065840
CREATED:20181127T023036Z
LAST-MODIFIED:20190201T213950Z
UID:2653-1546300800-1546387199@athlosstcloud.org
SUMMARY:Open Enrollment Begins for 2019-2020 School Year
DESCRIPTION:We are excited to announce that our enrollment window for the 2019–2020 school year opens on January 1\, 2019. We will be accepting enrollment applications from new students entering grades K–8 interested in starting the 2019–2020 school year at Athlos! Enrollment is open to children living in St. Cloud and all surrounding communities. Current students do not need to re-apply. \n\nLearn more about the enrollment process.\nVisit the Apply page for key dates (in orange). The application will become available on this page on January 1.\nHave a question? Fill out our form.\nTo visit Athlos Academy\, request a tour.
URL:https://athlosstcloud.org/calendar/open-enrollment-2019-2020/
CATEGORIES:Enrollment Events
ATTACH;FMTTYPE=image/png:https://athlosstcloud.org/wp-content/uploads/2018/11/open-enrollment-calendar-graphic.png
ORGANIZER;CN="Athlos Academy of St. Cloud":MAILTO:info@athlosstcloud.org
END:VEVENT
BEGIN:VEVENT
DTSTART;VALUE=DATE:20190104
DTEND;VALUE=DATE:20190105
DTSTAMP:20260425T065840
CREATED:20181227T073226Z
LAST-MODIFIED:20190201T213642Z
UID:3189-1546560000-1546646399@athlosstcloud.org
SUMMARY:No School - Teacher Professional Development
DESCRIPTION:
URL:https://athlosstcloud.org/calendar/teacher-pd-jan-2019/
CATEGORIES:Official School Calendar
ATTACH;FMTTYPE=image/png:https://athlosstcloud.org/wp-content/uploads/2018/09/no-school.png
END:VEVENT
BEGIN:VEVENT
DTSTART;TZID=America/Denver:20190108T180000
DTEND;TZID=America/Denver:20190108T193000
DTSTAMP:20260425T065840
CREATED:20181229T043501Z
LAST-MODIFIED:20190201T213647Z
UID:3285-1546970400-1546975800@athlosstcloud.org
SUMMARY:Enrollment Open House (for prospective K–8 students)
DESCRIPTION:Our enrollment window for the 2019-2020 school year opens on January 1. Stop by\, check us out\, and learn more about Athlos! This event is for prospective Athlos K-8 students and families interested in learning more about our school and our unique education model\, which features Prepared Mind\, Healthy Body\, and Performance Character. \nQuestions? Learn more about the enrollment process or email info@athlosstcloud.org.
URL:https://athlosstcloud.org/calendar/open-house-1-8-19/
LOCATION:Athlos Academy of St. Cloud\, 3701 33rd Street South\, St. Cloud\, MN\, 56301\, United States
CATEGORIES:Community Events,Enrollment Events,School Events
ATTACH;FMTTYPE=image/png:https://athlosstcloud.org/wp-content/uploads/2018/12/AASC_Open_House_Slider_1-8-19.png
ORGANIZER;CN="Athlos Academy of St. Cloud":MAILTO:info@athlosstcloud.org
END:VEVENT
BEGIN:VEVENT
DTSTART;TZID=America/Denver:20190114T083000
DTEND;TZID=America/Denver:20190114T093000
DTSTAMP:20260425T065840
CREATED:20181222T002909Z
LAST-MODIFIED:20190201T213656Z
UID:3133-1547454600-1547458200@athlosstcloud.org
SUMMARY:Finance Committee Meeting
DESCRIPTION:The agenda will be posted on the Governing Board page prior to the meeting. \n  \n 
URL:https://athlosstcloud.org/calendar/fc-meeting-jan-2019/
LOCATION:Athlos Academy of St. Cloud\, 3701 33rd Street South\, St. Cloud\, MN\, 56301\, United States
CATEGORIES:Board Meeting Calendar
END:VEVENT
BEGIN:VEVENT
DTSTART;TZID=UTC:20190115T153000
DTEND;TZID=UTC:20190115T163000
DTSTAMP:20260425T065840
CREATED:20190118T024530Z
LAST-MODIFIED:20190118T025238Z
UID:3489-1547566200-1547569800@athlosstcloud.org
SUMMARY:Wellness Committee Meeting
DESCRIPTION:See the meeting agenda.
URL:https://athlosstcloud.org/calendar/wellness-committee-meeting/
LOCATION:Athlos Academy of St. Cloud\, 3701 33rd Street South\, St. Cloud\, MN\, 56301\, United States
CATEGORIES:Community Events,School Events
ORGANIZER;CN="Athlos Academy of St. Cloud":MAILTO:info@athlosstcloud.org
END:VEVENT
BEGIN:VEVENT
DTSTART;VALUE=DATE:20190117
DTEND;VALUE=DATE:20190118
DTSTAMP:20260425T065840
CREATED:20181226T230031Z
LAST-MODIFIED:20190327T163038Z
UID:3148-1547683200-1547769599@athlosstcloud.org
SUMMARY:End of Quarter 2
DESCRIPTION:Quarter 2: 11/07/19 – 1/17/19
URL:https://athlosstcloud.org/calendar/end-of-quarter-2/
CATEGORIES:Official School Calendar
ATTACH;FMTTYPE=image/png:https://athlosstcloud.org/wp-content/uploads/2019/03/End-of-Quarter-2.png
END:VEVENT
BEGIN:VEVENT
DTSTART;TZID=America/Denver:20190117T160000
DTEND;TZID=America/Denver:20190117T180000
DTSTAMP:20260425T065840
CREATED:20190201T040448Z
LAST-MODIFIED:20190201T213743Z
UID:3536-1547740800-1547748000@athlosstcloud.org
SUMMARY:Boys' Basketball vs. Athlos Staff (Home)
DESCRIPTION:
URL:https://athlosstcloud.org/calendar/boys-basketball-vs-athlos-staff/
LOCATION:Athlos Academy of St. Cloud\, 3701 33rd Street South\, St. Cloud\, MN\, 56301\, United States
CATEGORIES:Boys' Basketball,Sports Calendar
ATTACH;FMTTYPE=image/png:https://athlosstcloud.org/wp-content/uploads/2018/12/boys-basketball.png
END:VEVENT
BEGIN:VEVENT
DTSTART;TZID=America/Denver:20190118T130000
DTEND;TZID=America/Denver:20190118T150000
DTSTAMP:20260425T065840
CREATED:20181227T003307Z
LAST-MODIFIED:20190201T213747Z
UID:3157-1547816400-1547823600@athlosstcloud.org
SUMMARY:Athlos' Got Talent
DESCRIPTION:Athlos Academy of St. Cloud is hosting a talent show on January 18. We have many amazing and creative individuals in our school and can’t wait to see the display of unique talents. \nThe show will be separated into two events: \n\n1:00-2:00 p.m. for grades K\, 2\, 4\, 5\, and 6\n2:00-3:00 p.m. for grades 1\, 3\, 7\, 8\n\nNote: There will be no athletic movement on January 18 for set up and practice for the performers. \n 
URL:https://athlosstcloud.org/calendar/athlos-got-talent/
LOCATION:Athlos Academy of St. Cloud\, 3701 33rd Street South\, St. Cloud\, MN\, 56301\, United States
CATEGORIES:Community Events,School Events
ATTACH;FMTTYPE=image/png:https://athlosstcloud.org/wp-content/uploads/2018/12/athlos_got_talent.png
ORGANIZER;CN="Athlos Academy of St. Cloud":MAILTO:info@athlosstcloud.org
END:VEVENT
BEGIN:VEVENT
DTSTART;TZID=America/Denver:20190118T183000
DTEND;TZID=America/Denver:20190118T193000
DTSTAMP:20260425T065840
CREATED:20181228T000924Z
LAST-MODIFIED:20190201T213752Z
UID:3208-1547836200-1547839800@athlosstcloud.org
SUMMARY:Open House - Cultural Night (for prospective K–8 students)
DESCRIPTION:Our enrollment window for the 2019-2020 school year opens on January 1 for students entering grades K-8 in the upcoming school year. \nCome tour our school\, learn more about our innovative approach to education\, meet with our school leader and some staff members\, and get help with the enrollment process. There will be a Somali translator at the event\, as well as resources and information on support for English language learners. \nQuestions? Learn more about the enrollment process or email info@athlosstcloud.org.
URL:https://athlosstcloud.org/calendar/open-house-1-18-19/
LOCATION:Athlos Academy of St. Cloud\, 3701 33rd Street South\, St. Cloud\, MN\, 56301\, United States
CATEGORIES:Community Events,Enrollment Events,School Events
ATTACH;FMTTYPE=image/png:https://athlosstcloud.org/wp-content/uploads/2018/12/open-house-cultural-night_1-18-19.png
ORGANIZER;CN="Athlos Academy of St. Cloud":MAILTO:info@athlosstcloud.org
END:VEVENT
BEGIN:VEVENT
DTSTART;VALUE=DATE:20190121
DTEND;VALUE=DATE:20190122
DTSTAMP:20260425T065840
CREATED:20180913T104415Z
LAST-MODIFIED:20190201T213757Z
UID:1266-1548028800-1548115199@athlosstcloud.org
SUMMARY:No School - Teacher Professional Development
DESCRIPTION:
URL:https://athlosstcloud.org/calendar/no-school-pd-1-21-19/
CATEGORIES:Official School Calendar
ATTACH;FMTTYPE=image/png:https://athlosstcloud.org/wp-content/uploads/2018/09/no-school.png
END:VEVENT
BEGIN:VEVENT
DTSTART;VALUE=DATE:20190121
DTEND;VALUE=DATE:20190122
DTSTAMP:20260425T065840
CREATED:20190103T234413Z
LAST-MODIFIED:20190201T213802Z
UID:3401-1548028800-1548115199@athlosstcloud.org
SUMMARY:Martin Luther King Jr. Day
DESCRIPTION:
URL:https://athlosstcloud.org/calendar/no-school-martin-luther-king-jr-day-2019/
CATEGORIES:Official School Calendar
END:VEVENT
BEGIN:VEVENT
DTSTART;TZID=America/Denver:20190121T160000
DTEND;TZID=America/Denver:20190121T170000
DTSTAMP:20260425T065840
CREATED:20181222T002820Z
LAST-MODIFIED:20190201T213807Z
UID:3132-1548086400-1548090000@athlosstcloud.org
SUMMARY:Governance Committee Meeting
DESCRIPTION:The agenda will be posted on the Governing Board page prior to the meeting. \n  \n 
URL:https://athlosstcloud.org/calendar/gc-meeting-jan-2019/
LOCATION:Athlos Academy of St. Cloud\, 3701 33rd Street South\, St. Cloud\, MN\, 56301\, United States
CATEGORIES:Board Meeting Calendar
END:VEVENT
BEGIN:VEVENT
DTSTART;TZID=America/Denver:20190121T170000
DTEND;TZID=America/Denver:20190121T183000
DTSTAMP:20260425T065840
CREATED:20180912T220402Z
LAST-MODIFIED:20190201T213813Z
UID:1199-1548090000-1548095400@athlosstcloud.org
SUMMARY:School Board Meeting
DESCRIPTION:The agenda will be posted on the Governing Board page prior to the meeting. \n  \n 
URL:https://athlosstcloud.org/calendar/school-board-meeting-jan-2019/
LOCATION:Athlos Academy of St. Cloud\, 3701 33rd Street South\, St. Cloud\, MN\, 56301\, United States
CATEGORIES:Board Meeting Calendar
END:VEVENT
BEGIN:VEVENT
DTSTART;TZID=America/Denver:20190124T183000
DTEND;TZID=America/Denver:20190124T193000
DTSTAMP:20260425T065840
CREATED:20181228T001103Z
LAST-MODIFIED:20190201T213817Z
UID:3209-1548354600-1548358200@athlosstcloud.org
SUMMARY:Kindergarten Enrollment Open House (for prospective students)
DESCRIPTION:Stop by\, check us out\, and learn more about kindergarten at Athlos! This event is for prospective Athlos kindergarten students and families interested in learning more about our school. \nOur enrollment window for the 2019-2020 school year opens on January 1. \nAthlos Academy of St. Cloud is a tuition-free\, public charter school in St. Cloud serving students in grades K-8 in the 2019-2020 school year. \nAthlos Academy offers a unique approach that empowers students to live fulfilling\, responsible\, and successful lives by building on our three foundational pillars: Prepared Mind\, Healthy Body\, and Performance Character. Athlos students develop critical thinking and problem-solving skills\, as well as a broad knowledge base and healthy lifestyle habits. Our school culture celebrates high academic achievement\, fosters individual growth in fitness and Performance Character\, and promotes regular family engagement.
URL:https://athlosstcloud.org/calendar/open-house-1-24-19/
LOCATION:Athlos Academy of St. Cloud\, 3701 33rd Street South\, St. Cloud\, MN\, 56301\, United States
CATEGORIES:Community Events,Enrollment Events,School Events
ATTACH;FMTTYPE=image/png:https://athlosstcloud.org/wp-content/uploads/2019/01/AASC_Open_House_Slider_1-24-19.png
ORGANIZER;CN="Athlos Academy of St. Cloud":MAILTO:info@athlosstcloud.org
END:VEVENT
BEGIN:VEVENT
DTSTART;TZID=America/Denver:20190125T160000
DTEND;TZID=America/Denver:20190125T180000
DTSTAMP:20260425T065840
CREATED:20190103T235123Z
LAST-MODIFIED:20190201T213823Z
UID:3402-1548432000-1548439200@athlosstcloud.org
SUMMARY:Title I & ELL Parent Information Session
DESCRIPTION:The Title I & ELL team is holding a parent information session where students and families can come learn more about theses programs and engineer ideas using children’s story classics.\n\nBuild the strongest house for the Three Little Pigs using straws\, toothpicks\, or LEGOS!\nBuild a bed that is just right for Baby Bear from the classic\, Goldilocks and the Three Bears!\nFor the older students\, create a castle for Cinderella using geometric shapes that apply ratios and fractions!\n\nCome join us for a night of fun and discovery.
URL:https://athlosstcloud.org/calendar/title-i-parent-information-session/
LOCATION:Athlos Academy of St. Cloud\, 3701 33rd Street South\, St. Cloud\, MN\, 56301\, United States
CATEGORIES:School Events
END:VEVENT
BEGIN:VEVENT
DTSTART;TZID=America/Denver:20190130T170000
DTEND;TZID=America/Denver:20190130T180000
DTSTAMP:20260425T065840
CREATED:20190103T232914Z
LAST-MODIFIED:20190201T213829Z
UID:3398-1548867600-1548871200@athlosstcloud.org
SUMMARY:Special Education Advisory Council Meeting
DESCRIPTION:Athlos Academy of St. Cloud has a Special Education Advisory Council (SEAC). Their first meeting is January 30th at 5:00 pm. All are invited to attend.\nThe purpose of the SEAC is to collaborate with the Director of Special Education to: \n\nAddress the unique needs of diverse learners so they can meet their maximum potential\nPromote an attitude of respect toward all students and a welcoming environment for all families\nEmpower and support parents to effectively advocate for children\n\nThe SEAC does this by: \n\nInforming and educating parents\, school staff\, students and community members through workshops\, websites\, and printed materials\nProviding opportunities for parents and caregivers to connect with the schools\, community resources and each other\nPromoting collaboration as a means to improve the education process for all learners\nInfluencing change\, policy\, and procedures through researching needs and advocating for solutions\n\nVisit the Student Support Services page for more information about Special Education. If you have any questions\, please reach out to Emma Olson\, Director of Special Education: eolson@athlosstcloud.org. \n 
URL:https://athlosstcloud.org/calendar/special-education-advisory-council-meeting/
LOCATION:Athlos Academy of St. Cloud\, 3701 33rd Street South\, St. Cloud\, MN\, 56301\, United States
CATEGORIES:School Events
ORGANIZER;CN="Athlos Academy of St. Cloud":MAILTO:info@athlosstcloud.org
END:VEVENT
END:VCALENDAR