BEGIN:VCALENDAR
VERSION:2.0
PRODID:-//Athlos Academy of St. Cloud - ECPv6.15.20//NONSGML v1.0//EN
CALSCALE:GREGORIAN
METHOD:PUBLISH
X-ORIGINAL-URL:https://athlosstcloud.org
X-WR-CALDESC:Events for Athlos Academy of St. Cloud
REFRESH-INTERVAL;VALUE=DURATION:PT1H
X-Robots-Tag:noindex
X-PUBLISHED-TTL:PT1H
BEGIN:VTIMEZONE
TZID:America/Denver
BEGIN:DAYLIGHT
TZOFFSETFROM:-0700
TZOFFSETTO:-0600
TZNAME:MDT
DTSTART:20200308T090000
END:DAYLIGHT
BEGIN:STANDARD
TZOFFSETFROM:-0600
TZOFFSETTO:-0700
TZNAME:MST
DTSTART:20201101T080000
END:STANDARD
BEGIN:DAYLIGHT
TZOFFSETFROM:-0700
TZOFFSETTO:-0600
TZNAME:MDT
DTSTART:20210314T090000
END:DAYLIGHT
BEGIN:STANDARD
TZOFFSETFROM:-0600
TZOFFSETTO:-0700
TZNAME:MST
DTSTART:20211107T080000
END:STANDARD
BEGIN:DAYLIGHT
TZOFFSETFROM:-0700
TZOFFSETTO:-0600
TZNAME:MDT
DTSTART:20220313T090000
END:DAYLIGHT
BEGIN:STANDARD
TZOFFSETFROM:-0600
TZOFFSETTO:-0700
TZNAME:MST
DTSTART:20221106T080000
END:STANDARD
END:VTIMEZONE
BEGIN:VEVENT
DTSTART;VALUE=DATE:20210222
DTEND;VALUE=DATE:20210223
DTSTAMP:20260419T105417
CREATED:20210120T185105Z
LAST-MODIFIED:20210120T185105Z
UID:5599-1613952000-1614038399@athlosstcloud.org
SUMMARY:Student Lottery for 2021–2022 School Year
DESCRIPTION:If there are more applicants than available seats\, applications are entered into a lottery taking place on February\, 22. \n\nLearn more about the enrollment process.\nHave a question? Fill out our form.\nTo visit Athlos Academy\, request a tour.
URL:https://athlosstcloud.org/calendar/student-lottery-for-2021-2022-school-year/
LOCATION:Athlos Academy of St. Cloud\, 3701 33rd Street South\, St. Cloud\, MN\, 56301\, United States
CATEGORIES:Enrollment Events
ATTACH;FMTTYPE=image/png:https://athlosstcloud.org/wp-content/uploads/2019/02/Student-Lottery-1.png
ORGANIZER;CN="Athlos Academy of St. Cloud":MAILTO:info@athlosstcloud.org
END:VEVENT
END:VCALENDAR