BEGIN:VCALENDAR
VERSION:2.0
PRODID:-//Athlos Academy of St. Cloud - ECPv6.15.20//NONSGML v1.0//EN
CALSCALE:GREGORIAN
METHOD:PUBLISH
X-WR-CALNAME:Athlos Academy of St. Cloud
X-ORIGINAL-URL:https://athlosstcloud.org
X-WR-CALDESC:Events for Athlos Academy of St. Cloud
REFRESH-INTERVAL;VALUE=DURATION:PT1H
X-Robots-Tag:noindex
X-PUBLISHED-TTL:PT1H
BEGIN:VTIMEZONE
TZID:America/Denver
BEGIN:DAYLIGHT
TZOFFSETFROM:-0700
TZOFFSETTO:-0600
TZNAME:MDT
DTSTART:20200308T090000
END:DAYLIGHT
BEGIN:STANDARD
TZOFFSETFROM:-0600
TZOFFSETTO:-0700
TZNAME:MST
DTSTART:20201101T080000
END:STANDARD
BEGIN:DAYLIGHT
TZOFFSETFROM:-0700
TZOFFSETTO:-0600
TZNAME:MDT
DTSTART:20210314T090000
END:DAYLIGHT
BEGIN:STANDARD
TZOFFSETFROM:-0600
TZOFFSETTO:-0700
TZNAME:MST
DTSTART:20211107T080000
END:STANDARD
BEGIN:DAYLIGHT
TZOFFSETFROM:-0700
TZOFFSETTO:-0600
TZNAME:MDT
DTSTART:20220313T090000
END:DAYLIGHT
BEGIN:STANDARD
TZOFFSETFROM:-0600
TZOFFSETTO:-0700
TZNAME:MST
DTSTART:20221106T080000
END:STANDARD
END:VTIMEZONE
BEGIN:VEVENT
DTSTART;TZID=America/Denver:20210126T160000
DTEND;TZID=America/Denver:20210126T173000
DTSTAMP:20260419T080126
CREATED:20210125T230432Z
LAST-MODIFIED:20210125T231118Z
UID:5617-1611676800-1611682200@athlosstcloud.org
SUMMARY:Kindergarten Open House
DESCRIPTION:Stop by\, check us out\, and learn more about kindergarten at Athlos! This event is for prospective Athlos kindergarten students and families interested in learning more about our school. \nOur enrollment window for the 2021-2022 school year is now open! Apply today! \nAthlos Academy of St. Cloud is a tuition-free\, public charter school in St. Cloud serving students in grades K-8. \nAthlos Academy offers a unique approach that empowers students to live fulfilling\, responsible\, and successful lives by building on our three foundational pillars: Prepared Mind\, Healthy Body\, and Performance Character. Athlos students develop critical thinking and problem-solving skills\, as well as a broad knowledge base and healthy lifestyle habits. Our school culture celebrates high academic achievement\, fosters individual growth in fitness and Performance Character\, and promotes regular family engagement. \nSee the flyer!
URL:https://athlosstcloud.org/calendar/kindergarten-open-house/
LOCATION:Athlos Academy of St. Cloud\, 3701 33rd Street South\, St. Cloud\, MN\, 56301\, United States
CATEGORIES:Enrollment Events
ATTACH;FMTTYPE=image/png:https://athlosstcloud.org/wp-content/uploads/2021/01/AASC_Kinder-Open-House_Web-Slider_1-26-20.png
ORGANIZER;CN="Athlos Academy of St. Cloud":MAILTO:info@athlosstcloud.org
END:VEVENT
BEGIN:VEVENT
DTSTART;TZID=America/Denver:20210122T160000
DTEND;TZID=America/Denver:20210122T180000
DTSTAMP:20260419T080126
CREATED:20210108T220019Z
LAST-MODIFIED:20210119T233407Z
UID:5577-1611331200-1611338400@athlosstcloud.org
SUMMARY:Enrollment Open House
DESCRIPTION:Discover the Athlos Edge \nA Tuition-Free Public Charter School \nNow Enrolling Grades K-8 \nOur unique education model: \n\nPrepares students for high academic achievement\nPromotes a culture of health and wellness\nDevelops Performance Character in the classroom and beyond\n\nOpen House Dates: (English) \n\nTuesday\, January 26\, 5:30–7:30 p.m.\nThursday\, February 11\, 5:30–7:30 p.m.\n\nSee the flyer \nOpen House Dates: (Somali) \n\nFriday\, January 22\, 4–6 p.m.\nFriday\, February 5\, 4–6 p.m.\n\nSee the flyer \nOpen House Dates: (Spanish) \n\nFriday\, January 29\, 4–6 p.m.\nFriday\, February 12\, 4–6 p.m.\n\nSee the flyer \nEveryone is welcome! Information presented in English with Somali and Spanish interpretation available.  Easy parking\, childcare\, refreshments\, giveaways\, and more!
URL:https://athlosstcloud.org/calendar/enrollment-open-house/
LOCATION:Athlos Academy of St. Cloud\, 3701 33rd Street South\, St. Cloud\, MN\, 56301\, United States
CATEGORIES:Enrollment Events,School Events
ATTACH;FMTTYPE=image/png:https://athlosstcloud.org/wp-content/uploads/2021/01/AASC_All-Grades-Open-House_Web-Slider_Jan-Fab-2021.png
ORGANIZER;CN="Athlos Academy of St. Cloud":MAILTO:info@athlosstcloud.org
END:VEVENT
END:VCALENDAR