BEGIN:VCALENDAR
VERSION:2.0
PRODID:-//Athlos Academy of St. Cloud - ECPv6.15.20//NONSGML v1.0//EN
CALSCALE:GREGORIAN
METHOD:PUBLISH
X-ORIGINAL-URL:https://athlosstcloud.org
X-WR-CALDESC:Events for Athlos Academy of St. Cloud
REFRESH-INTERVAL;VALUE=DURATION:PT1H
X-Robots-Tag:noindex
X-PUBLISHED-TTL:PT1H
BEGIN:VTIMEZONE
TZID:America/Denver
BEGIN:DAYLIGHT
TZOFFSETFROM:-0700
TZOFFSETTO:-0600
TZNAME:MDT
DTSTART:20200308T090000
END:DAYLIGHT
BEGIN:STANDARD
TZOFFSETFROM:-0600
TZOFFSETTO:-0700
TZNAME:MST
DTSTART:20201101T080000
END:STANDARD
BEGIN:DAYLIGHT
TZOFFSETFROM:-0700
TZOFFSETTO:-0600
TZNAME:MDT
DTSTART:20210314T090000
END:DAYLIGHT
BEGIN:STANDARD
TZOFFSETFROM:-0600
TZOFFSETTO:-0700
TZNAME:MST
DTSTART:20211107T080000
END:STANDARD
BEGIN:DAYLIGHT
TZOFFSETFROM:-0700
TZOFFSETTO:-0600
TZNAME:MDT
DTSTART:20220313T090000
END:DAYLIGHT
BEGIN:STANDARD
TZOFFSETFROM:-0600
TZOFFSETTO:-0700
TZNAME:MST
DTSTART:20221106T080000
END:STANDARD
END:VTIMEZONE
BEGIN:VEVENT
DTSTART;TZID=America/Denver:20210426T160000
DTEND;TZID=America/Denver:20210426T170000
DTSTAMP:20260424T015716
CREATED:20201001T201116Z
LAST-MODIFIED:20210304T174304Z
UID:5353-1619452800-1619456400@athlosstcloud.org
SUMMARY:Governance Committee Meeting
DESCRIPTION:If you plan to virtually attend\, please contact Jill Turgeon at jturgeon@athlosacademies.org with your full name to be admitted to the meeting. \nZoom Link: https://zoom.us/j/98109592763
URL:https://athlosstcloud.org/calendar/governance-committee-meeting-apr-2021/
LOCATION:Athlos Academy of St. Cloud\, 3701 33rd Street South\, St. Cloud\, MN\, 56301\, United States
CATEGORIES:Board Meeting Calendar
ATTACH;FMTTYPE=image/png:https://athlosstcloud.org/wp-content/uploads/2019/03/Governance_Committee_2.png
ORGANIZER;CN="Athlos Academy of St. Cloud":MAILTO:info@athlosstcloud.org
END:VEVENT
BEGIN:VEVENT
DTSTART;TZID=America/Denver:20210426T170000
DTEND;TZID=America/Denver:20210426T180000
DTSTAMP:20260424T015716
CREATED:20201001T214036Z
LAST-MODIFIED:20210304T173343Z
UID:5362-1619456400-1619460000@athlosstcloud.org
SUMMARY:School Board Meeting
DESCRIPTION:If you plan to virtually attend\, please contact Jill Turgeon at jturgeon@athlosacademies.org with your full name to be admitted to the meeting. \nZoom Link: https://zoom.us/j/96868254613
URL:https://athlosstcloud.org/calendar/school-board-meeting-apr-2021/
LOCATION:Athlos Academy of St. Cloud\, 3701 33rd Street South\, St. Cloud\, MN\, 56301\, United States
CATEGORIES:Board Meeting Calendar
ATTACH;FMTTYPE=image/png:https://athlosstcloud.org/wp-content/uploads/2019/02/Board-Meeting_2.png
ORGANIZER;CN="Athlos Academy of St. Cloud":MAILTO:info@athlosstcloud.org
END:VEVENT
END:VCALENDAR