BEGIN:VCALENDAR
VERSION:2.0
PRODID:-//Athlos Academy of St. Cloud - ECPv6.15.20//NONSGML v1.0//EN
CALSCALE:GREGORIAN
METHOD:PUBLISH
X-ORIGINAL-URL:https://athlosstcloud.org
X-WR-CALDESC:Events for Athlos Academy of St. Cloud
REFRESH-INTERVAL;VALUE=DURATION:PT1H
X-Robots-Tag:noindex
X-PUBLISHED-TTL:PT1H
BEGIN:VTIMEZONE
TZID:America/Denver
BEGIN:DAYLIGHT
TZOFFSETFROM:-0700
TZOFFSETTO:-0600
TZNAME:MDT
DTSTART:20180311T090000
END:DAYLIGHT
BEGIN:STANDARD
TZOFFSETFROM:-0600
TZOFFSETTO:-0700
TZNAME:MST
DTSTART:20181104T080000
END:STANDARD
BEGIN:DAYLIGHT
TZOFFSETFROM:-0700
TZOFFSETTO:-0600
TZNAME:MDT
DTSTART:20190310T090000
END:DAYLIGHT
BEGIN:STANDARD
TZOFFSETFROM:-0600
TZOFFSETTO:-0700
TZNAME:MST
DTSTART:20191103T080000
END:STANDARD
BEGIN:DAYLIGHT
TZOFFSETFROM:-0700
TZOFFSETTO:-0600
TZNAME:MDT
DTSTART:20200308T090000
END:DAYLIGHT
BEGIN:STANDARD
TZOFFSETFROM:-0600
TZOFFSETTO:-0700
TZNAME:MST
DTSTART:20201101T080000
END:STANDARD
END:VTIMEZONE
BEGIN:VEVENT
DTSTART;VALUE=DATE:20191201
DTEND;VALUE=DATE:20191221
DTSTAMP:20260422T210746
CREATED:20191106T211938Z
LAST-MODIFIED:20191125T231919Z
UID:4439-1575158400-1576886399@athlosstcloud.org
SUMMARY:Holiday Food Drive
DESCRIPTION:Athlos Academy PTA is hosting their 2nd annual food drive. \nPlease bring in your non-perishable items December 1–20. All donations will be given to the St. Cloud food shelf. We believe in not only helping our school but helping our community as well. Anything you can bring would be greatly appreciated. \nPlease drop all donations off at Athlos Academy during school hours. \nSee the flyer.
URL:https://athlosstcloud.org/calendar/holiday-food-drive/
LOCATION:Athlos Academy of St. Cloud\, 3701 33rd Street South\, St. Cloud\, MN\, 56301\, United States
CATEGORIES:School Events
ATTACH;FMTTYPE=image/png:https://athlosstcloud.org/wp-content/uploads/2019/11/web-slider.png
ORGANIZER;CN="Athlos Academy of St. Cloud":MAILTO:info@athlosstcloud.org
END:VEVENT
BEGIN:VEVENT
DTSTART;TZID=America/Denver:20191207T100000
DTEND;TZID=America/Denver:20191207T160000
DTSTAMP:20260422T210746
CREATED:20191106T214320Z
LAST-MODIFIED:20191125T213931Z
UID:4442-1575712800-1575734400@athlosstcloud.org
SUMMARY:Craft & Bake Sale
DESCRIPTION:The Athlos Academy PTA is hosting a craft and bake sale Saturday\, December 7th! \nThere will be 25+Crafter/Vendor booths including Thirty One\, Color Street Nails\, Tupperware\, Tranquil Serenity\, Norwax\, Young Living\, Busy Buddies\, Scentsy and lots of homemade crafts. \n\nBring the family and enjoy crafts and food. We will be selling amazing Homemade baked goods.\nPlease bring a non-perishable food item to donate to the local food shelf.\nPurchase a raffle ticket for a chance to win a prize from our vendors.\nAll-beef hotdog\, chips and a drink will be sold in the cafeteria for $5.\nVisit Santa from 10:00 a.m.–2:00 p.m.\nAll profits will go to help fund our school including student enrichment events and technology.\n\nIf you would like to donate a baked good from our list for the bake sale\, please sign up here. \nIf you would like to volunteer to help sell baked goods\, cook and serve meals\, and/or set up Friday evening and clean up on Saturday\, please sign up here. \nSee the Craft & Bake Sale flyer.
URL:https://athlosstcloud.org/calendar/craft-bake-sale-winter-carnival/
LOCATION:Athlos Academy of St. Cloud\, 3701 33rd Street South\, St. Cloud\, MN\, 56301\, United States
CATEGORIES:Community Events,School Events
ORGANIZER;CN="Athlos Academy of St. Cloud":MAILTO:info@athlosstcloud.org
END:VEVENT
END:VCALENDAR