BEGIN:VCALENDAR
VERSION:2.0
PRODID:-//Athlos Academy of St. Cloud - ECPv6.15.20//NONSGML v1.0//EN
CALSCALE:GREGORIAN
METHOD:PUBLISH
X-WR-CALNAME:Athlos Academy of St. Cloud
X-ORIGINAL-URL:https://athlosstcloud.org
X-WR-CALDESC:Events for Athlos Academy of St. Cloud
REFRESH-INTERVAL;VALUE=DURATION:PT1H
X-Robots-Tag:noindex
X-PUBLISHED-TTL:PT1H
BEGIN:VTIMEZONE
TZID:America/Denver
BEGIN:DAYLIGHT
TZOFFSETFROM:-0700
TZOFFSETTO:-0600
TZNAME:MDT
DTSTART:20180311T090000
END:DAYLIGHT
BEGIN:STANDARD
TZOFFSETFROM:-0600
TZOFFSETTO:-0700
TZNAME:MST
DTSTART:20181104T080000
END:STANDARD
BEGIN:DAYLIGHT
TZOFFSETFROM:-0700
TZOFFSETTO:-0600
TZNAME:MDT
DTSTART:20190310T090000
END:DAYLIGHT
BEGIN:STANDARD
TZOFFSETFROM:-0600
TZOFFSETTO:-0700
TZNAME:MST
DTSTART:20191103T080000
END:STANDARD
BEGIN:DAYLIGHT
TZOFFSETFROM:-0700
TZOFFSETTO:-0600
TZNAME:MDT
DTSTART:20200308T090000
END:DAYLIGHT
BEGIN:STANDARD
TZOFFSETFROM:-0600
TZOFFSETTO:-0700
TZNAME:MST
DTSTART:20201101T080000
END:STANDARD
END:VTIMEZONE
BEGIN:VEVENT
DTSTART;VALUE=DATE:20190826
DTEND;VALUE=DATE:20190830
DTSTAMP:20260425T052855
CREATED:20190430T182410Z
LAST-MODIFIED:20190430T210637Z
UID:3885-1566777600-1567123199@athlosstcloud.org
SUMMARY:Staff Professional Development
DESCRIPTION:
URL:https://athlosstcloud.org/calendar/staff-professional-development-2019-week-2/
LOCATION:MN\, United States
CATEGORIES:Official School Calendar
ATTACH;FMTTYPE=image/png:https://athlosstcloud.org/wp-content/uploads/2019/04/Staff_PD.png
END:VEVENT
BEGIN:VEVENT
DTSTART;TZID=America/Denver:20190828T170000
DTEND;TZID=America/Denver:20190828T190000
DTSTAMP:20260425T052855
CREATED:20190729T175435Z
LAST-MODIFIED:20190729T193921Z
UID:4098-1567011600-1567018800@athlosstcloud.org
SUMMARY:Back-to-School Open House
DESCRIPTION:Athlos families: Mark your calendars now for our Back-to-School Open House.\n\nMeet your student’s teacher(s)\nSee your student’s classroom\nDrop off school supplies\nReceive information about:\n\nExtra-curricular activities\nFood service\nUniforms\nBusing\nDriveline\nKIDSTOP\nPTA
URL:https://athlosstcloud.org/calendar/back-to-school-open-house/
CATEGORIES:School Events
ATTACH;FMTTYPE=image/png:https://athlosstcloud.org/wp-content/uploads/2019/07/back-to-school-open-house-august-28.png
ORGANIZER;CN="Athlos Academy of St. Cloud":MAILTO:info@athlosstcloud.org
END:VEVENT
BEGIN:VEVENT
DTSTART;TZID=America/Denver:20190828T181500
DTEND;TZID=America/Denver:20190828T190000
DTSTAMP:20260425T052855
CREATED:20190815T221846Z
LAST-MODIFIED:20190815T225739Z
UID:4175-1567016100-1567018800@athlosstcloud.org
SUMMARY:Soccer Meeting for Interested 6th–8th Grade Students
DESCRIPTION:Join the Athlos Titans soccer team this school year! We are holding a soccer meeting for all interested 6th-8th grade students and parents in the middle school art room.
URL:https://athlosstcloud.org/calendar/soccer-meeting-for-interested-6th-8th-grade-students/
LOCATION:Athlos Academy of St. Cloud\, 3701 33rd Street South\, St. Cloud\, MN\, 56301\, United States
ATTACH;FMTTYPE=image/png:https://athlosstcloud.org/wp-content/uploads/2019/08/soccer-meeting-august-28.png
ORGANIZER;CN="Athlos Academy of St. Cloud":MAILTO:info@athlosstcloud.org
END:VEVENT
END:VCALENDAR