BEGIN:VCALENDAR
VERSION:2.0
PRODID:-//Athlos Academy of St. Cloud - ECPv6.15.20//NONSGML v1.0//EN
CALSCALE:GREGORIAN
METHOD:PUBLISH
X-WR-CALNAME:Athlos Academy of St. Cloud
X-ORIGINAL-URL:https://athlosstcloud.org
X-WR-CALDESC:Events for Athlos Academy of St. Cloud
REFRESH-INTERVAL;VALUE=DURATION:PT1H
X-Robots-Tag:noindex
X-PUBLISHED-TTL:PT1H
BEGIN:VTIMEZONE
TZID:America/Denver
BEGIN:DAYLIGHT
TZOFFSETFROM:-0700
TZOFFSETTO:-0600
TZNAME:MDT
DTSTART:20180311T090000
END:DAYLIGHT
BEGIN:STANDARD
TZOFFSETFROM:-0600
TZOFFSETTO:-0700
TZNAME:MST
DTSTART:20181104T080000
END:STANDARD
BEGIN:DAYLIGHT
TZOFFSETFROM:-0700
TZOFFSETTO:-0600
TZNAME:MDT
DTSTART:20190310T090000
END:DAYLIGHT
BEGIN:STANDARD
TZOFFSETFROM:-0600
TZOFFSETTO:-0700
TZNAME:MST
DTSTART:20191103T080000
END:STANDARD
BEGIN:DAYLIGHT
TZOFFSETFROM:-0700
TZOFFSETTO:-0600
TZNAME:MDT
DTSTART:20200308T090000
END:DAYLIGHT
BEGIN:STANDARD
TZOFFSETFROM:-0600
TZOFFSETTO:-0700
TZNAME:MST
DTSTART:20201101T080000
END:STANDARD
END:VTIMEZONE
BEGIN:VEVENT
DTSTART;TZID=America/Denver:20190708T080000
DTEND;TZID=America/Denver:20190708T120000
DTSTAMP:20260423T060155
CREATED:20190409T202747Z
LAST-MODIFIED:20190409T203327Z
UID:3805-1562572800-1562587200@athlosstcloud.org
SUMMARY:Summer School
DESCRIPTION:Session two of summer school will be held 8:00 AM to 12:00 PM\, Monday–Thursday on the following dates:\n\nJuly 8–11\nJuly 15–18\nJuly 22–25\n\nThese sessions will cover reading\, math\, and Performance Character for all grade levels. There is no cost to parents for their child to take advantage of this opportunity. Both transportation and lunch will be included. There are two sessions; we encourage students to participate in both sessions. Both sessions will be focusing on preparing students for the next school year.
URL:https://athlosstcloud.org/calendar/summer-school-session-1-2/
LOCATION:Athlos Academy of St. Cloud\, 3701 33rd Street South\, St. Cloud\, MN\, 56301\, United States
CATEGORIES:Official School Calendar
ATTACH;FMTTYPE=image/png:https://athlosstcloud.org/wp-content/uploads/2019/04/summer-school-session2.png
ORGANIZER;CN="Athlos Academy of St. Cloud":MAILTO:info@athlosstcloud.org
END:VEVENT
BEGIN:VEVENT
DTSTART;TZID=America/Denver:20190715T083000
DTEND;TZID=America/Denver:20190715T093000
DTSTAMP:20260423T060155
CREATED:20181221T235830Z
LAST-MODIFIED:20190529T185705Z
UID:3122-1563179400-1563183000@athlosstcloud.org
SUMMARY:Finance Committee Meeting
DESCRIPTION:The agenda will be posted on the Governing Board page prior to the meeting. \n  \n  \n  \n 
URL:https://athlosstcloud.org/calendar/fc-meeting-july-2019/
LOCATION:Athlos Academy of St. Cloud\, 3701 33rd Street South\, St. Cloud\, MN\, 56301\, United States
CATEGORIES:Board Meeting Calendar
ATTACH;FMTTYPE=image/png:https://athlosstcloud.org/wp-content/uploads/2019/02/Finance-Committee-3.png
END:VEVENT
END:VCALENDAR