BEGIN:VCALENDAR
VERSION:2.0
PRODID:-//Athlos Academy of St. Cloud - ECPv6.15.20//NONSGML v1.0//EN
CALSCALE:GREGORIAN
METHOD:PUBLISH
X-WR-CALNAME:Athlos Academy of St. Cloud
X-ORIGINAL-URL:https://athlosstcloud.org
X-WR-CALDESC:Events for Athlos Academy of St. Cloud
REFRESH-INTERVAL;VALUE=DURATION:PT1H
X-Robots-Tag:noindex
X-PUBLISHED-TTL:PT1H
BEGIN:VTIMEZONE
TZID:America/Denver
BEGIN:DAYLIGHT
TZOFFSETFROM:-0700
TZOFFSETTO:-0600
TZNAME:MDT
DTSTART:20180311T090000
END:DAYLIGHT
BEGIN:STANDARD
TZOFFSETFROM:-0600
TZOFFSETTO:-0700
TZNAME:MST
DTSTART:20181104T080000
END:STANDARD
BEGIN:DAYLIGHT
TZOFFSETFROM:-0700
TZOFFSETTO:-0600
TZNAME:MDT
DTSTART:20190310T090000
END:DAYLIGHT
BEGIN:STANDARD
TZOFFSETFROM:-0600
TZOFFSETTO:-0700
TZNAME:MST
DTSTART:20191103T080000
END:STANDARD
BEGIN:DAYLIGHT
TZOFFSETFROM:-0700
TZOFFSETTO:-0600
TZNAME:MDT
DTSTART:20200308T090000
END:DAYLIGHT
BEGIN:STANDARD
TZOFFSETFROM:-0600
TZOFFSETTO:-0700
TZNAME:MST
DTSTART:20201101T080000
END:STANDARD
END:VTIMEZONE
BEGIN:VEVENT
DTSTART;TZID=America/Denver:20190713T130000
DTEND;TZID=America/Denver:20190713T150000
DTSTAMP:20260425T064425
CREATED:20190613T195611Z
LAST-MODIFIED:20190614T160149Z
UID:4063-1563022800-1563030000@athlosstcloud.org
SUMMARY:Ice Cream Social & Flag Football on the Turf
DESCRIPTION:Join us for ice cream and capture the flag on the turf!\nThis event is open to Athlos families\, friends and families of Athlos families\, and the community.  This fun summer event will be a great opportunity to meet other Athlos families and teachers. Cool down with some ice cream and an indoor game of capture the flag! \nAthlos families: For every non-Athlos family you bring to the event\, you will be entered into a raffle for a fun prize!
URL:https://athlosstcloud.org/calendar/ice-cream-social-flag-football-on-the-turf/
LOCATION:Athlos Academy of St. Cloud\, 3701 33rd Street South\, St. Cloud\, MN\, 56301\, United States
CATEGORIES:Community Events,Enrollment Events,School Events
ATTACH;FMTTYPE=image/png:https://athlosstcloud.org/wp-content/uploads/2019/06/AASC_summer_events_2019_ice-cream-social-flag-football-july-13.png
ORGANIZER;CN="Athlos Academy of St. Cloud":MAILTO:info@athlosstcloud.org
END:VEVENT
END:VCALENDAR