BEGIN:VCALENDAR
VERSION:2.0
PRODID:-//Athlos Academy of St. Cloud - ECPv6.15.20//NONSGML v1.0//EN
CALSCALE:GREGORIAN
METHOD:PUBLISH
X-ORIGINAL-URL:https://athlosstcloud.org
X-WR-CALDESC:Events for Athlos Academy of St. Cloud
REFRESH-INTERVAL;VALUE=DURATION:PT1H
X-Robots-Tag:noindex
X-PUBLISHED-TTL:PT1H
BEGIN:VTIMEZONE
TZID:America/Denver
BEGIN:DAYLIGHT
TZOFFSETFROM:-0700
TZOFFSETTO:-0600
TZNAME:MDT
DTSTART:20180311T090000
END:DAYLIGHT
BEGIN:STANDARD
TZOFFSETFROM:-0600
TZOFFSETTO:-0700
TZNAME:MST
DTSTART:20181104T080000
END:STANDARD
BEGIN:DAYLIGHT
TZOFFSETFROM:-0700
TZOFFSETTO:-0600
TZNAME:MDT
DTSTART:20190310T090000
END:DAYLIGHT
BEGIN:STANDARD
TZOFFSETFROM:-0600
TZOFFSETTO:-0700
TZNAME:MST
DTSTART:20191103T080000
END:STANDARD
BEGIN:DAYLIGHT
TZOFFSETFROM:-0700
TZOFFSETTO:-0600
TZNAME:MDT
DTSTART:20200308T090000
END:DAYLIGHT
BEGIN:STANDARD
TZOFFSETFROM:-0600
TZOFFSETTO:-0700
TZNAME:MST
DTSTART:20201101T080000
END:STANDARD
END:VTIMEZONE
BEGIN:VEVENT
DTSTART;TZID=America/Denver:20190518T120000
DTEND;TZID=America/Denver:20190518T140000
DTSTAMP:20260422T212716
CREATED:20190507T165538Z
LAST-MODIFIED:20190514T161807Z
UID:3970-1558180800-1558188000@athlosstcloud.org
SUMMARY:Athlos Color-a-Thon: A Color Run for Kids!
DESCRIPTION:The Athlos Color-a-Thon includes an inflatable obstacle course\, army crawl\, climbing wall\, and spider web obstacle.\nThis event\, sponsored by the Athlos Academy PTA\, is open to the community! \n\n$10 cash registration before the run from 12:00–12:45 PM\nAthlos students may register online by May 17th at www.schoolathon.org\nThe event starts at 1:00 PM\nKids and adults may register\n\nFor more information\, contact the PTA at athlosacademystcloudpta@gmail.com. This event is being held to support elementary classrooms at Athlos Academy of St. Cloud.
URL:https://athlosstcloud.org/calendar/athlos-color-a-thon-a-color-run-for-kids/
LOCATION:Athlos Academy of St. Cloud\, 3701 33rd Street South\, St. Cloud\, MN\, 56301\, United States
CATEGORIES:Community Events,Enrollment Events,School Events
ATTACH;FMTTYPE=image/png:https://athlosstcloud.org/wp-content/uploads/2019/05/color-a-thon.png
ORGANIZER;CN="Athlos Academy of St. Cloud":MAILTO:info@athlosstcloud.org
END:VEVENT
END:VCALENDAR