BEGIN:VCALENDAR
VERSION:2.0
PRODID:-//Athlos Academy of St. Cloud - ECPv6.15.20//NONSGML v1.0//EN
CALSCALE:GREGORIAN
METHOD:PUBLISH
X-ORIGINAL-URL:https://athlosstcloud.org
X-WR-CALDESC:Events for Athlos Academy of St. Cloud
REFRESH-INTERVAL;VALUE=DURATION:PT1H
X-Robots-Tag:noindex
X-PUBLISHED-TTL:PT1H
BEGIN:VTIMEZONE
TZID:America/Denver
BEGIN:DAYLIGHT
TZOFFSETFROM:-0700
TZOFFSETTO:-0600
TZNAME:MDT
DTSTART:20180311T090000
END:DAYLIGHT
BEGIN:STANDARD
TZOFFSETFROM:-0600
TZOFFSETTO:-0700
TZNAME:MST
DTSTART:20181104T080000
END:STANDARD
BEGIN:DAYLIGHT
TZOFFSETFROM:-0700
TZOFFSETTO:-0600
TZNAME:MDT
DTSTART:20190310T090000
END:DAYLIGHT
BEGIN:STANDARD
TZOFFSETFROM:-0600
TZOFFSETTO:-0700
TZNAME:MST
DTSTART:20191103T080000
END:STANDARD
BEGIN:DAYLIGHT
TZOFFSETFROM:-0700
TZOFFSETTO:-0600
TZNAME:MDT
DTSTART:20200308T090000
END:DAYLIGHT
BEGIN:STANDARD
TZOFFSETFROM:-0600
TZOFFSETTO:-0700
TZNAME:MST
DTSTART:20201101T080000
END:STANDARD
END:VTIMEZONE
BEGIN:VEVENT
DTSTART;TZID=America/Denver:20190509T163000
DTEND;TZID=America/Denver:20190509T173000
DTSTAMP:20260422T164012
CREATED:20190507T164845Z
LAST-MODIFIED:20190507T164845Z
UID:3973-1557419400-1557423000@athlosstcloud.org
SUMMARY:Special Board Meeting
DESCRIPTION:
URL:https://athlosstcloud.org/calendar/special-board-meeting-may-2019/
LOCATION:Athlos Academy of St. Cloud\, 3701 33rd Street South\, St. Cloud\, MN\, 56301\, United States
CATEGORIES:Board Meeting Calendar
ATTACH;FMTTYPE=image/png:https://athlosstcloud.org/wp-content/uploads/2019/02/Board_Meeting_1.png
ORGANIZER;CN="Athlos Academy of St. Cloud":MAILTO:info@athlosstcloud.org
END:VEVENT
BEGIN:VEVENT
DTSTART;TZID=America/Denver:20190509T163000
DTEND;TZID=America/Denver:20190509T183000
DTSTAMP:20260422T164012
CREATED:20190405T200926Z
LAST-MODIFIED:20190418T164032Z
UID:3772-1557419400-1557426600@athlosstcloud.org
SUMMARY:Kindergarten Roundup (for new & prospective students)
DESCRIPTION:Please join us on May 9th for our Kindergarten Roundup! This is a fun and informative event for our kindergarten parents and their students\, and anyone interested in attending kindergarten at Athlos next school year! Limited seats are still available in kindergarten for the 2019–2020 school year.\nAthlos students who bring a friend (not from Athlos) will be entered into a raffle for a FREE UNIFORM!\nEnglish flyer |  Spanish flyer \nAt this event: \n\nMeet the school leader and kindergarten teachers\nSee the kindergarten classrooms\nLearn about a typical day in kindergarten\nTry on uniforms – see the uniforms\nSign up for kindergarten screenings\nScreen for English language services – learn more\nSign up for KIDSTOP (after school care) – learn more\nLearn about Driveline (our drop off and pick up procedure) – Watch a Driveline video\nLearn about our three pillars: Prepared Mind\, Healthy Body\, and Performance Character\nTake part in a bus safety training – learn more about busing\nTurn in any missing paperwork\nPlay in a bounce house!\n\n 
URL:https://athlosstcloud.org/calendar/kindergarten-roundup/
LOCATION:Athlos Academy of St. Cloud\, 3701 33rd Street South\, St. Cloud\, MN\, 56301\, United States
CATEGORIES:Community Events,Enrollment Events,School Events
ATTACH;FMTTYPE=image/png:https://athlosstcloud.org/wp-content/uploads/2019/04/kindergarten_roundup.png
ORGANIZER;CN="Athlos Academy of St. Cloud":MAILTO:info@athlosstcloud.org
END:VEVENT
END:VCALENDAR