BEGIN:VCALENDAR
VERSION:2.0
PRODID:-//Athlos Academy of St. Cloud - ECPv6.15.20//NONSGML v1.0//EN
CALSCALE:GREGORIAN
METHOD:PUBLISH
X-ORIGINAL-URL:https://athlosstcloud.org
X-WR-CALDESC:Events for Athlos Academy of St. Cloud
REFRESH-INTERVAL;VALUE=DURATION:PT1H
X-Robots-Tag:noindex
X-PUBLISHED-TTL:PT1H
BEGIN:VTIMEZONE
TZID:America/Denver
BEGIN:DAYLIGHT
TZOFFSETFROM:-0700
TZOFFSETTO:-0600
TZNAME:MDT
DTSTART:20180311T090000
END:DAYLIGHT
BEGIN:STANDARD
TZOFFSETFROM:-0600
TZOFFSETTO:-0700
TZNAME:MST
DTSTART:20181104T080000
END:STANDARD
BEGIN:DAYLIGHT
TZOFFSETFROM:-0700
TZOFFSETTO:-0600
TZNAME:MDT
DTSTART:20190310T090000
END:DAYLIGHT
BEGIN:STANDARD
TZOFFSETFROM:-0600
TZOFFSETTO:-0700
TZNAME:MST
DTSTART:20191103T080000
END:STANDARD
BEGIN:DAYLIGHT
TZOFFSETFROM:-0700
TZOFFSETTO:-0600
TZNAME:MDT
DTSTART:20200308T090000
END:DAYLIGHT
BEGIN:STANDARD
TZOFFSETFROM:-0600
TZOFFSETTO:-0700
TZNAME:MST
DTSTART:20201101T080000
END:STANDARD
END:VTIMEZONE
BEGIN:VEVENT
DTSTART;TZID=America/Denver:20190430T193000
DTEND;TZID=America/Denver:20190430T203000
DTSTAMP:20260422T211947
CREATED:20190105T044116Z
LAST-MODIFIED:20190409T222007Z
UID:3415-1556652600-1556656200@athlosstcloud.org
SUMMARY:Musical: "Impossible Made Possible"
DESCRIPTION:[vc_row][vc_column][vc_column_text] \nJoin us for Athlos Academy of St. Cloud’s very first musical production! The performance is free and open to the public.\n“Impossible Made Possible” will be performed by 5th–8th grade music students. It celebrates the lives of American heroes who have shown us that anything is possible with vision\, perseverance\, and dedication. See the poster.[/vc_column_text][/vc_column][/vc_row][vc_row][vc_column width=”1/3″][vc_single_image image=”3831″ img_size=”full”][/vc_column][vc_column width=”2/3″][vc_column_text]The production will feature: \n\nMartin Luther King\nAmelia Earhart\nHelen Keller\nLewis\, Clark\, and Sacagawea\nAstronauts\nThomas Edison\n\n[/vc_column_text][/vc_column][/vc_row]
URL:https://athlosstcloud.org/calendar/middle-school-musical-2019/
LOCATION:Athlos Academy of St. Cloud\, 3701 33rd Street South\, St. Cloud\, MN\, 56301\, United States
CATEGORIES:Community Events,School Events
ATTACH;FMTTYPE=image/png:https://athlosstcloud.org/wp-content/uploads/2019/04/Impossible_Made_Possible_musical-performance.png
ORGANIZER;CN="Athlos Academy of St. Cloud":MAILTO:info@athlosstcloud.org
END:VEVENT
END:VCALENDAR