BEGIN:VCALENDAR
VERSION:2.0
PRODID:-//Athlos Academy of St. Cloud - ECPv6.15.20//NONSGML v1.0//EN
CALSCALE:GREGORIAN
METHOD:PUBLISH
X-ORIGINAL-URL:https://athlosstcloud.org
X-WR-CALDESC:Events for Athlos Academy of St. Cloud
REFRESH-INTERVAL;VALUE=DURATION:PT1H
X-Robots-Tag:noindex
X-PUBLISHED-TTL:PT1H
BEGIN:VTIMEZONE
TZID:America/Denver
BEGIN:DAYLIGHT
TZOFFSETFROM:-0700
TZOFFSETTO:-0600
TZNAME:MDT
DTSTART:20180311T090000
END:DAYLIGHT
BEGIN:STANDARD
TZOFFSETFROM:-0600
TZOFFSETTO:-0700
TZNAME:MST
DTSTART:20181104T080000
END:STANDARD
BEGIN:DAYLIGHT
TZOFFSETFROM:-0700
TZOFFSETTO:-0600
TZNAME:MDT
DTSTART:20190310T090000
END:DAYLIGHT
BEGIN:STANDARD
TZOFFSETFROM:-0600
TZOFFSETTO:-0700
TZNAME:MST
DTSTART:20191103T080000
END:STANDARD
BEGIN:DAYLIGHT
TZOFFSETFROM:-0700
TZOFFSETTO:-0600
TZNAME:MDT
DTSTART:20200308T090000
END:DAYLIGHT
BEGIN:STANDARD
TZOFFSETFROM:-0600
TZOFFSETTO:-0700
TZNAME:MST
DTSTART:20201101T080000
END:STANDARD
END:VTIMEZONE
BEGIN:VEVENT
DTSTART;TZID=America/Denver:20190307T080000
DTEND;TZID=America/Denver:20190307T193000
DTSTAMP:20260423T031548
CREATED:20190226T192828Z
LAST-MODIFIED:20190226T235052Z
UID:3643-1551945600-1551987000@athlosstcloud.org
SUMMARY:Book Fair
DESCRIPTION:The book fair is open today during the hours of student-led conferences. Go to room 204.
URL:https://athlosstcloud.org/calendar/book-fair-3-7-19/
LOCATION:Athlos Academy of St. Cloud\, 3701 33rd Street South\, St. Cloud\, MN\, 56301\, United States
CATEGORIES:School Events
ATTACH;FMTTYPE=image/png:https://athlosstcloud.org/wp-content/uploads/2018/10/book-fair2.png
END:VEVENT
BEGIN:VEVENT
DTSTART;TZID=America/Denver:20190307T160000
DTEND;TZID=America/Denver:20190307T193000
DTSTAMP:20260423T031548
CREATED:20190103T043002Z
LAST-MODIFIED:20190201T213554Z
UID:3331-1551974400-1551987000@athlosstcloud.org
SUMMARY:Student-Led Conferences (evening)
DESCRIPTION:School is in session for the first day of student-led conferences.
URL:https://athlosstcloud.org/calendar/slcs-march-2018/
LOCATION:Athlos Academy of St. Cloud\, 3701 33rd Street South\, St. Cloud\, MN\, 56301\, United States
CATEGORIES:Official School Calendar,School Events
ATTACH;FMTTYPE=image/png:https://athlosstcloud.org/wp-content/uploads/2018/09/Student_Led_Conferences.png
ORGANIZER;CN="Athlos Academy of St. Cloud":MAILTO:info@athlosstcloud.org
END:VEVENT
END:VCALENDAR