BEGIN:VCALENDAR
VERSION:2.0
PRODID:-//Athlos Academy of St. Cloud - ECPv6.15.20//NONSGML v1.0//EN
CALSCALE:GREGORIAN
METHOD:PUBLISH
X-WR-CALNAME:Athlos Academy of St. Cloud
X-ORIGINAL-URL:https://athlosstcloud.org
X-WR-CALDESC:Events for Athlos Academy of St. Cloud
REFRESH-INTERVAL;VALUE=DURATION:PT1H
X-Robots-Tag:noindex
X-PUBLISHED-TTL:PT1H
BEGIN:VTIMEZONE
TZID:America/Denver
BEGIN:DAYLIGHT
TZOFFSETFROM:-0700
TZOFFSETTO:-0600
TZNAME:MDT
DTSTART:20180311T090000
END:DAYLIGHT
BEGIN:STANDARD
TZOFFSETFROM:-0600
TZOFFSETTO:-0700
TZNAME:MST
DTSTART:20181104T080000
END:STANDARD
BEGIN:DAYLIGHT
TZOFFSETFROM:-0700
TZOFFSETTO:-0600
TZNAME:MDT
DTSTART:20190310T090000
END:DAYLIGHT
BEGIN:STANDARD
TZOFFSETFROM:-0600
TZOFFSETTO:-0700
TZNAME:MST
DTSTART:20191103T080000
END:STANDARD
BEGIN:DAYLIGHT
TZOFFSETFROM:-0700
TZOFFSETTO:-0600
TZNAME:MDT
DTSTART:20200308T090000
END:DAYLIGHT
BEGIN:STANDARD
TZOFFSETFROM:-0600
TZOFFSETTO:-0700
TZNAME:MST
DTSTART:20201101T080000
END:STANDARD
END:VTIMEZONE
BEGIN:VEVENT
DTSTART;VALUE=DATE:20190228
DTEND;VALUE=DATE:20190301
DTSTAMP:20260423T044132
CREATED:20190222T053139Z
LAST-MODIFIED:20190222T234131Z
UID:3634-1551312000-1551398399@athlosstcloud.org
SUMMARY:Spirit Week: Sports Day
DESCRIPTION:All grades are encouraged to participate in Spirit Week. We are having a contest each day. The class that shows the most spirit by number of participants will win an ice cream party. \nThursday \n\nTheme: Sports Day\nWear team or sports clothes\nStudents that dress up are not required to wear their Athlos uniform
URL:https://athlosstcloud.org/calendar/spirit-week-thurs-2019/
CATEGORIES:School Events
ATTACH;FMTTYPE=image/png:https://athlosstcloud.org/wp-content/uploads/2019/02/spirit_week.png
ORGANIZER;CN="Athlos Academy of St. Cloud":MAILTO:info@athlosstcloud.org
END:VEVENT
BEGIN:VEVENT
DTSTART;TZID=America/Denver:20190228T163000
DTEND;TZID=America/Denver:20190228T183000
DTSTAMP:20260423T044132
CREATED:20190206T165339Z
LAST-MODIFIED:20190206T165339Z
UID:3556-1551371400-1551378600@athlosstcloud.org
SUMMARY:Boys' Basketball vs. Stride Academy (Away)
DESCRIPTION:
URL:https://athlosstcloud.org/calendar/boys-basketball-vs-stride-2-28-19/
LOCATION:Stride Academy\, 3241 Oakham Lane\, St. Cloud\, MN\, 56301\, United States
CATEGORIES:Boys' Basketball,Sports Calendar
ATTACH;FMTTYPE=image/png:https://athlosstcloud.org/wp-content/uploads/2018/12/boys-basketball.png
END:VEVENT
END:VCALENDAR