BEGIN:VCALENDAR
VERSION:2.0
PRODID:-//Athlos Academy of St. Cloud - ECPv6.15.20//NONSGML v1.0//EN
CALSCALE:GREGORIAN
METHOD:PUBLISH
X-ORIGINAL-URL:https://athlosstcloud.org
X-WR-CALDESC:Events for Athlos Academy of St. Cloud
REFRESH-INTERVAL;VALUE=DURATION:PT1H
X-Robots-Tag:noindex
X-PUBLISHED-TTL:PT1H
BEGIN:VTIMEZONE
TZID:America/Denver
BEGIN:DAYLIGHT
TZOFFSETFROM:-0700
TZOFFSETTO:-0600
TZNAME:MDT
DTSTART:20180311T090000
END:DAYLIGHT
BEGIN:STANDARD
TZOFFSETFROM:-0600
TZOFFSETTO:-0700
TZNAME:MST
DTSTART:20181104T080000
END:STANDARD
BEGIN:DAYLIGHT
TZOFFSETFROM:-0700
TZOFFSETTO:-0600
TZNAME:MDT
DTSTART:20190310T090000
END:DAYLIGHT
BEGIN:STANDARD
TZOFFSETFROM:-0600
TZOFFSETTO:-0700
TZNAME:MST
DTSTART:20191103T080000
END:STANDARD
BEGIN:DAYLIGHT
TZOFFSETFROM:-0700
TZOFFSETTO:-0600
TZNAME:MDT
DTSTART:20200308T090000
END:DAYLIGHT
BEGIN:STANDARD
TZOFFSETFROM:-0600
TZOFFSETTO:-0700
TZNAME:MST
DTSTART:20201101T080000
END:STANDARD
END:VTIMEZONE
BEGIN:VEVENT
DTSTART;VALUE=DATE:20190226
DTEND;VALUE=DATE:20190227
DTSTAMP:20260423T074333
CREATED:20190222T052726Z
LAST-MODIFIED:20190222T234127Z
UID:3632-1551139200-1551225599@athlosstcloud.org
SUMMARY:Spirit Week: Color Day
DESCRIPTION:All grades are encouraged to participate in Spirit Week. We are having a contest each day. The class that shows the most spirit by number of participants will win an ice cream party. \nTuesday \n\nTheme: Color Day\nEach grade has a color:\n\nKindergarten – yellow\n1st grade – purple\n2nd grade – red\n3rd grade – green\n4th grade – blue\n5th grade – pink\n6th grade – orange\n7th grade – black\n8th grade – white\n\n\nStudents that dress up are not required to wear their Athlos uniform
URL:https://athlosstcloud.org/calendar/spirit-week-tue-2019/
CATEGORIES:School Events
ATTACH;FMTTYPE=image/png:https://athlosstcloud.org/wp-content/uploads/2019/02/spirit_week.png
ORGANIZER;CN="Athlos Academy of St. Cloud":MAILTO:info@athlosstcloud.org
END:VEVENT
BEGIN:VEVENT
DTSTART;TZID=America/Denver:20190226T163000
DTEND;TZID=America/Denver:20190226T183000
DTSTAMP:20260423T074333
CREATED:20190201T041156Z
LAST-MODIFIED:20190206T165914Z
UID:3540-1551198600-1551205800@athlosstcloud.org
SUMMARY:Boys' Basketball vs. North Junior High (Home)
DESCRIPTION:
URL:https://athlosstcloud.org/calendar/boys-basketball-vs-north-junior-high-2-26-19/
LOCATION:Athlos Academy of St. Cloud\, 3701 33rd Street South\, St. Cloud\, MN\, 56301\, United States
CATEGORIES:Boys' Basketball,Sports Calendar
ATTACH;FMTTYPE=image/png:https://athlosstcloud.org/wp-content/uploads/2018/12/boys-basketball.png
END:VEVENT
END:VCALENDAR