BEGIN:VCALENDAR
VERSION:2.0
PRODID:-//Athlos Academy of St. Cloud - ECPv6.15.20//NONSGML v1.0//EN
CALSCALE:GREGORIAN
METHOD:PUBLISH
X-ORIGINAL-URL:https://athlosstcloud.org
X-WR-CALDESC:Events for Athlos Academy of St. Cloud
REFRESH-INTERVAL;VALUE=DURATION:PT1H
X-Robots-Tag:noindex
X-PUBLISHED-TTL:PT1H
BEGIN:VTIMEZONE
TZID:America/Denver
BEGIN:DAYLIGHT
TZOFFSETFROM:-0700
TZOFFSETTO:-0600
TZNAME:MDT
DTSTART:20180311T090000
END:DAYLIGHT
BEGIN:STANDARD
TZOFFSETFROM:-0600
TZOFFSETTO:-0700
TZNAME:MST
DTSTART:20181104T080000
END:STANDARD
BEGIN:DAYLIGHT
TZOFFSETFROM:-0700
TZOFFSETTO:-0600
TZNAME:MDT
DTSTART:20190310T090000
END:DAYLIGHT
BEGIN:STANDARD
TZOFFSETFROM:-0600
TZOFFSETTO:-0700
TZNAME:MST
DTSTART:20191103T080000
END:STANDARD
BEGIN:DAYLIGHT
TZOFFSETFROM:-0700
TZOFFSETTO:-0600
TZNAME:MDT
DTSTART:20200308T090000
END:DAYLIGHT
BEGIN:STANDARD
TZOFFSETFROM:-0600
TZOFFSETTO:-0700
TZNAME:MST
DTSTART:20201101T080000
END:STANDARD
END:VTIMEZONE
BEGIN:VEVENT
DTSTART;VALUE=DATE:20190204
DTEND;VALUE=DATE:20190205
DTSTAMP:20260425T053504
CREATED:20190104T000023Z
LAST-MODIFIED:20190201T215500Z
UID:3404-1549238400-1549324799@athlosstcloud.org
SUMMARY:Check your email for Intent to Return form
DESCRIPTION:It’s nearly time again to start thinking about the upcoming school year! Please check your email on February 4 for the Intent to Return Form for the 2019-2020 school year. We ask that you please fill out the form to let us know if your student will be attending Athlos next school year. \nForms are due by February 15.
URL:https://athlosstcloud.org/calendar/intent-to-return-2019-2020/
CATEGORIES:Enrollment Events,School Events
ATTACH;FMTTYPE=image/png:https://athlosstcloud.org/wp-content/uploads/2019/02/Intent_to_Return.png
END:VEVENT
END:VCALENDAR